BEGIN:VCALENDAR
VERSION:2.0
PRODID:-//www.schule-moosseedorf.ch//NONSGML kigkonsult.se iCalcreator 2.22
 //
CALSCALE:GREGORIAN
METHOD:PUBLISH
X-WR-TIMEZONE:Europe/Berlin
BEGIN:VEVENT
UID:20260421T124447CEST-1683e5TDNB@www.schule-moosseedorf.ch
DTSTAMP:20260421T104447Z
DESCRIPTION:Klicken Sie auf den folgenden Link\, um weitere Informationen z
 ur Veranstaltung zu erhalten:\nhttp://www.schule-moosseedorf.ch/de/veranst
 altungen/detail/detail.php?i=442
DTSTART:20260508T193000
DTEND:20260508T213000
LOCATION:Kirche Moosseedorf
SUMMARY:VOIX-LÀ in concert
END:VEVENT
END:VCALENDAR
