BEGIN:VCALENDAR
VERSION:2.0
PRODID:-//www.schule-moosseedorf.ch//NONSGML kigkonsult.se iCalcreator 2.22
 //
CALSCALE:GREGORIAN
METHOD:PUBLISH
X-WR-TIMEZONE:Europe/Berlin
BEGIN:VEVENT
UID:20260421T124526CEST-0936zmsptU@www.schule-moosseedorf.ch
DTSTAMP:20260421T104526Z
DESCRIPTION:Klicken Sie auf den folgenden Link\, um weitere Informationen z
 ur Veranstaltung zu erhalten:\nhttp://www.schule-moosseedorf.ch/de/veranst
 altungen/detail/detail.php?i=441
DTSTART:20260425T090000
DTEND:20260425T130000
LOCATION:Wald Moosseedorf
SUMMARY:Earth Day
END:VEVENT
END:VCALENDAR
